BEGIN:VCALENDAR
VERSION:2.0
PRODID:-//The Banquet - ECPv6.15.15//NONSGML v1.0//EN
CALSCALE:GREGORIAN
METHOD:PUBLISH
X-ORIGINAL-URL:https://thebanquetsf.org
X-WR-CALDESC:Events for The Banquet
REFRESH-INTERVAL;VALUE=DURATION:PT1H
X-Robots-Tag:noindex
X-PUBLISHED-TTL:PT1H
BEGIN:VTIMEZONE
TZID:America/Chicago
BEGIN:DAYLIGHT
TZOFFSETFROM:-0600
TZOFFSETTO:-0500
TZNAME:CDT
DTSTART:20250309T080000
END:DAYLIGHT
BEGIN:STANDARD
TZOFFSETFROM:-0500
TZOFFSETTO:-0600
TZNAME:CST
DTSTART:20251102T070000
END:STANDARD
BEGIN:DAYLIGHT
TZOFFSETFROM:-0600
TZOFFSETTO:-0500
TZNAME:CDT
DTSTART:20260308T080000
END:DAYLIGHT
BEGIN:STANDARD
TZOFFSETFROM:-0500
TZOFFSETTO:-0600
TZNAME:CST
DTSTART:20261101T070000
END:STANDARD
BEGIN:DAYLIGHT
TZOFFSETFROM:-0600
TZOFFSETTO:-0500
TZNAME:CDT
DTSTART:20270314T080000
END:DAYLIGHT
BEGIN:STANDARD
TZOFFSETFROM:-0500
TZOFFSETTO:-0600
TZNAME:CST
DTSTART:20271107T070000
END:STANDARD
END:VTIMEZONE
BEGIN:VEVENT
DTSTART;TZID=America/Chicago:20260307T080000
DTEND;TZID=America/Chicago:20260307T120000
DTSTAMP:20260421T150702
CREATED:20260205T172140Z
LAST-MODIFIED:20260205T172140Z
UID:10000004-1772870400-1772884800@thebanquetsf.org
SUMMARY:The Pad Party
DESCRIPTION:The Pad Party invites our community to come together for our annual Menstrual Hygiene Product Drive.\n\nWe’re collecting pads\, tampons\, and incontinence products to support neighbors in our community who face period poverty. All products and funds raised this year will benefit The Banquet\, helping them serve some of Sioux Falls’ most vulnerable individuals and families with dignity and care.\n\nOver the past 16 years\, The Pad Party has mobilized incredible community generosity—donating over half a million menstrual and hygiene products and thousands of dollars to The Banquet and other local nonprofits. This impact is only possible because people show up\, year after year.\n\nHow to help:\n– Donate pads\, tampons\, or incontinence products at the March 7th event or directly to The Banquet.\n– Make a financial contribution via Venmo @thebanquetsf\n– Mail a check to The Banquet\, 900 E 8th Street\, Sioux Falls\, SD 57103\n(Please reference “The Pad Party” in the memo)\n\nTogether\, we can turn a simple act of giving into real dignity\, relief\, and support for our community.
URL:https://thebanquetsf.org/event/the-pad-party/
LOCATION:Queen City Bakery\, 324 E 8th St.\, Sioux Falls\, SD\, 57103\, United States
ATTACH;FMTTYPE=image/jpeg:https://thebanquetsf.org/wp-content/uploads/616029963_880795078195908_6988580098838082001_n.jpg
END:VEVENT
END:VCALENDAR