BEGIN:VCALENDAR
VERSION:2.0
PRODID:-//The Banquet - ECPv6.15.15//NONSGML v1.0//EN
CALSCALE:GREGORIAN
METHOD:PUBLISH
X-WR-CALNAME:The Banquet
X-ORIGINAL-URL:https://thebanquetsf.org
X-WR-CALDESC:Events for The Banquet
REFRESH-INTERVAL;VALUE=DURATION:PT1H
X-Robots-Tag:noindex
X-PUBLISHED-TTL:PT1H
BEGIN:VTIMEZONE
TZID:America/Chicago
BEGIN:DAYLIGHT
TZOFFSETFROM:-0600
TZOFFSETTO:-0500
TZNAME:CDT
DTSTART:20250309T080000
END:DAYLIGHT
BEGIN:STANDARD
TZOFFSETFROM:-0500
TZOFFSETTO:-0600
TZNAME:CST
DTSTART:20251102T070000
END:STANDARD
BEGIN:DAYLIGHT
TZOFFSETFROM:-0600
TZOFFSETTO:-0500
TZNAME:CDT
DTSTART:20260308T080000
END:DAYLIGHT
BEGIN:STANDARD
TZOFFSETFROM:-0500
TZOFFSETTO:-0600
TZNAME:CST
DTSTART:20261101T070000
END:STANDARD
BEGIN:DAYLIGHT
TZOFFSETFROM:-0600
TZOFFSETTO:-0500
TZNAME:CDT
DTSTART:20270314T080000
END:DAYLIGHT
BEGIN:STANDARD
TZOFFSETFROM:-0500
TZOFFSETTO:-0600
TZNAME:CST
DTSTART:20271107T070000
END:STANDARD
END:VTIMEZONE
BEGIN:VEVENT
DTSTART;TZID=America/Chicago:20261001T170000
DTEND;TZID=America/Chicago:20261001T200000
DTSTAMP:20260420T105029
CREATED:20260203T191909Z
LAST-MODIFIED:20260203T191909Z
UID:10000003-1790874000-1790884800@thebanquetsf.org
SUMMARY:ChiliFest 2026
DESCRIPTION:Get ready to turn up the heat! The Banquet Sioux Falls is thrilled to announce Chili Fest 2026\, happening Thursday\, October 1\, from 5:00–8:00 p.m. at the Icon Lounge in downtown Sioux Falls. \nThis sizzling fundraiser promises a night full of flavor\, fun\, and community spirit — all in support of The Banquet’s mission to provide food and fellowship to those in need. \nGuests will enjoy a chili showdown featuring 10 local chefs serving up their best creations\, while the Crabgrass Crew keeps the evening lively with great music. \nAdvance tickets are just $20 (or $25 at the door) — an unbeatable deal for an unforgettable night. \nBut the fun doesn’t stop there: \nA $20 raffle ticket (only 100 sold!) gives you FOUR chances to win a quarter hog. \nThe silent auction features a fantastic one-day pheasant hunt for three — perfect for South Dakota sportsmen and women. \nSo\, grab your friends\, bring your appetite\, and join us for the hottest fundraiser in town.
URL:https://thebanquetsf.org/event/chilifest_2026/
LOCATION:Icon Events Hall\, 402 N Main Ave\, Sioux Falls\, SD\, 57104\, United States
END:VEVENT
BEGIN:VEVENT
DTSTART;TZID=America/Chicago:20261126T080000
DTEND;TZID=America/Chicago:20261126T100000
DTSTAMP:20260420T105029
CREATED:20260203T191255Z
LAST-MODIFIED:20260203T191255Z
UID:10000002-1795680000-1795687200@thebanquetsf.org
SUMMARY:Run for The Banquet
DESCRIPTION:Looking for a meaningful way to kick off Thanksgiving? Join us for The Banquet’s Family Fun Run. \n📍 Location: W.H. Lyon Fairgrounds Armory Building\, Sioux Falls \nStart Your Thanksgiving with a Run for a Good Cause!\nJoin us for The Banquet’s Family Fun Run\, a heartwarming Sioux Falls tradition that combines fun\, fitness\, and giving back. Before the holiday festivities begin\, gather your family and friends for a 1-mile\, 5K\, or 10K run/walk — at your own pace! \nThere’s no registration\, no timing\, and no pressure — just a suggested $20 donation to support The Banquet’s mission to feed and serve our community. \n🎉 Costumes encouraged! Dress up as a turkey\, pilgrim\, or anything festive to add to the Thanksgiving spirit. \nEven if you can’t make it in person\, you can still make an impact! \n💛 Donate online: TheBanquetSF.org\n💛 Venmo: @TheBanquetSF\n💛 In-person donations: Visit our Downtown office
URL:https://thebanquetsf.org/event/run-banquet/
LOCATION:W.H. Lyon Fairgrounds Armory Building\, Sioux Falls
ATTACH;FMTTYPE=image/png:https://thebanquetsf.org/wp-content/uploads/Run-Wherever-Social-Post.png
END:VEVENT
END:VCALENDAR